BEGIN:VCALENDAR
VERSION:2.0
PRODID:-//jEvents 2.0 for Joomla//EN
CALSCALE:GREGORIAN
METHOD:PUBLISH
BEGIN:VEVENT
UID:6lj3idpg6grmab9g6hij6b9kc8o34b9p6ko6cbb3cco64dj2ccs64e9hcc@google.com
CATEGORIES:MV Fischbach
CREATED:20260420T093006
SUMMARY:Ausschusssitzung
LOCATION:Proberaum
DESCRIPTION:
DTSTAMP:20260420T115718
DTSTART:20260427T193000
DTEND:20260427T213000
SEQUENCE:0
TRANSP:OPAQUE
END:VEVENT
END:VCALENDAR