BEGIN:VCALENDAR
VERSION:2.0
PRODID:-//jEvents 2.0 for Joomla//EN
CALSCALE:GREGORIAN
METHOD:PUBLISH
BEGIN:VEVENT
UID:cgs30or16os34bb175hmab9kcgrm8b9pcoojib9ic8q3ephh6gomae1oco@google.com
CATEGORIES:MV Fischbach
CREATED:20260420T093006
SUMMARY:Ausschusssitzung
DESCRIPTION:
DTSTAMP:20260420T170932
DTSTART:20270214T160000
DTEND:20270214T190000
SEQUENCE:0
TRANSP:OPAQUE
END:VEVENT
END:VCALENDAR