BEGIN:VCALENDAR
VERSION:2.0
PRODID:-//jEvents 2.0 for Joomla//EN
CALSCALE:GREGORIAN
METHOD:PUBLISH
BEGIN:VEVENT
UID:4672hp8lrb1ojuitct9gmc7v1i@google.com
CATEGORIES:MV Fischbach
CREATED:20250818T193004
SUMMARY:GbR-Veranstaltung
DESCRIPTION:
DTSTAMP:20260420T225018
DTSTART:20250906T173000
DTEND:20250907T013000
SEQUENCE:1
TRANSP:OPAQUE
END:VEVENT
END:VCALENDAR