BEGIN:VCALENDAR
VERSION:2.0
PRODID:-//jEvents 2.0 for Joomla//EN
CALSCALE:GREGORIAN
METHOD:PUBLISH
BEGIN:VEVENT
UID:4a94r6e0lo5q01trjs9k8ouhel@google.com
CATEGORIES:MV Fischbach
CREATED:20250320T093004
SUMMARY:Satzprobe Holz
DESCRIPTION:
DTSTAMP:20260421T003051
DTSTART:20250414T200000
DTEND:20250414T214500
SEQUENCE:1
TRANSP:OPAQUE
END:VEVENT
END:VCALENDAR