BEGIN:VCALENDAR
VERSION:2.0
PRODID:-//jEvents 2.0 for Joomla//EN
CALSCALE:GREGORIAN
METHOD:PUBLISH
BEGIN:VEVENT
UID:cdi6cchicdi66bb6cgr64b9k6th3abb164r3ab9pccr3ed9o70p3ecpg74@google.com
CATEGORIES:MV Fischbach
CREATED:20250316T213004
SUMMARY:Ausschusssitzung
LOCATION:Proberaum
DESCRIPTION:
DTSTAMP:20260421T003052
DTSTART:20250428T190000
DTEND:20250428T213000
SEQUENCE:0
TRANSP:OPAQUE
END:VEVENT
END:VCALENDAR