BEGIN:VCALENDAR
VERSION:2.0
PRODID:-//jEvents 2.0 for Joomla//EN
CALSCALE:GREGORIAN
METHOD:PUBLISH
BEGIN:VEVENT
UID:60pjad1ic8q36bb6coqjeb9k68sjebb2ckpjab9m71h6copjc8pj2or46g@google.com
CATEGORIES:MV Fischbach
CREATED:20250124T223006
SUMMARY:Auftritt Rissegg Bockbierfest
DESCRIPTION:
DTSTAMP:20260421T052411
DTSTART:20250406T090000
DTEND:20250406T113000
SEQUENCE:0
TRANSP:OPAQUE
END:VEVENT
END:VCALENDAR