BEGIN:VCALENDAR
VERSION:2.0
PRODID:-//jEvents 2.0 for Joomla//EN
CALSCALE:GREGORIAN
METHOD:PUBLISH
BEGIN:VEVENT
UID:4bfhi87n8qtdkhhfo1gm2997kj@google.com
CATEGORIES:MV Fischbach
CREATED:20241222T133006
SUMMARY:Auftritt Frühshoppen MV Wain
LOCATION:Wain
DESCRIPTION:
DTSTAMP:20260420T140758
DTSTART:20250720T103000
DTEND:20250720T133000
SEQUENCE:1
TRANSP:OPAQUE
END:VEVENT
END:VCALENDAR