BEGIN:VCALENDAR
VERSION:2.0
PRODID:-//jEvents 2.0 for Joomla//EN
CALSCALE:GREGORIAN
METHOD:PUBLISH
BEGIN:VEVENT
UID:c9i36d33cgs3cbb66oo32b9k71imcb9o65j64b9p61i6cd1j6cqj4ob56o@google.com
CATEGORIES:MV Fischbach
CREATED:20241110T213004
SUMMARY:Ausschusssitzung
LOCATION:Proberaum
DESCRIPTION:
DTSTAMP:20260420T170129
DTSTART:20241115T210000
DTEND:20241115T230000
SEQUENCE:0
TRANSP:OPAQUE
END:VEVENT
END:VCALENDAR