BEGIN:VCALENDAR
VERSION:2.0
PRODID:-//jEvents 2.0 for Joomla//EN
CALSCALE:GREGORIAN
METHOD:PUBLISH
BEGIN:VEVENT
UID:7nkj3ifme123btt54ucrq7fkoc@google.com
CATEGORIES:MV Fischbach
CREATED:20240927T123006
SUMMARY:Auftritt Fronleichnam
DESCRIPTION:
DTSTAMP:20260420T171412
DTSTART:20250619T061500
DTEND:20250619T083000
SEQUENCE:0
TRANSP:OPAQUE
END:VEVENT
END:VCALENDAR