BEGIN:VCALENDAR
VERSION:2.0
PRODID:-//jEvents 2.0 for Joomla//EN
CALSCALE:GREGORIAN
METHOD:PUBLISH
BEGIN:VEVENT
UID:6brna5kejmlobe0e574pnh3sek@google.com
CATEGORIES:MV Fischbach
CREATED:20240927T123006
SUMMARY:Auftritt Moosheim-Tissen
DESCRIPTION:
DTSTAMP:20260420T184357
DTSTART:20250622T110000
DTEND:20250622T140000
SEQUENCE:0
TRANSP:OPAQUE
END:VEVENT
END:VCALENDAR