BEGIN:VCALENDAR
VERSION:2.0
PRODID:-//jEvents 2.0 for Joomla//EN
CALSCALE:GREGORIAN
METHOD:PUBLISH
BEGIN:VEVENT
UID:6dgj0dj16cpj0b9o68smcb9k6hi3abb2cos32b9lc4qm4cppc8s30eb16s@google.com
CATEGORIES:MV Fischbach
CREATED:20240912T193005
SUMMARY:Ausschusssitzung
DESCRIPTION:
DTSTAMP:20260420T130142
DTSTART:20240927T214500
DTEND:20240927T233000
SEQUENCE:1
TRANSP:OPAQUE
END:VEVENT
END:VCALENDAR