BEGIN:VCALENDAR
VERSION:2.0
PRODID:-//jEvents 2.0 for Joomla//EN
CALSCALE:GREGORIAN
METHOD:PUBLISH
BEGIN:VEVENT
UID:70qj8eb2c4o3abb26gom4b9kcop30bb174sjgb9p70om8d1n68p32ob26s@google.com
CATEGORIES:MV Fischbach
CREATED:20240712T223004
SUMMARY:Treffen Vorstände (online)
DESCRIPTION:
DTSTAMP:20260420T213215
DTSTART:20240728T180000
DTEND:20240728T193000
SEQUENCE:0
TRANSP:OPAQUE
END:VEVENT
END:VCALENDAR