BEGIN:VCALENDAR
VERSION:2.0
PRODID:-//jEvents 2.0 for Joomla//EN
CALSCALE:GREGORIAN
METHOD:PUBLISH
BEGIN:VEVENT
UID:ckojadr4c9h30b9gcor30b9kcpj30b9o6co6cb9o61gj2cb3ckrmacpi68@google.com
CATEGORIES:MV Fischbach
CREATED:20240301T193004
SUMMARY:Interner Jahresabschluss
LOCATION:Proberaum
DESCRIPTION:
DTSTAMP:20260421T034444
DTSTART:20240301T220000
DTEND:20240301T230000
SEQUENCE:0
TRANSP:OPAQUE
END:VEVENT
END:VCALENDAR