BEGIN:VCALENDAR
VERSION:2.0
PRODID:-//jEvents 2.0 for Joomla//EN
CALSCALE:GREGORIAN
METHOD:PUBLISH
BEGIN:VEVENT
UID:75i3edr5cgq32b9p65j3gb9k6tj3ibb16gp34b9i71i6cdb56grm6pj3cc@google.com
CATEGORIES:MV Fischbach
CREATED:20240218T203004
SUMMARY:Ausschusssitzung
LOCATION:ONLINE
DESCRIPTION:
DTSTAMP:20260421T060531
DTSTART:20240311T190000
DTEND:20240311T210000
SEQUENCE:0
TRANSP:OPAQUE
END:VEVENT
END:VCALENDAR