BEGIN:VCALENDAR
VERSION:2.0
PRODID:-//jEvents 2.0 for Joomla//EN
CALSCALE:GREGORIAN
METHOD:PUBLISH
BEGIN:VEVENT
UID:09kiq4jd2k5ifbom953pb5vsbv@google.com
CATEGORIES:MV Fischbach
CREATED:20240215T213004
SUMMARY:Probewochenende
DESCRIPTION:
DTSTAMP:20260421T034443
DTSTART:20240303T090000
DTEND:20240303T130000
SEQUENCE:0
TRANSP:OPAQUE
END:VEVENT
END:VCALENDAR