BEGIN:VCALENDAR
VERSION:2.0
PRODID:-//jEvents 2.0 for Joomla//EN
CALSCALE:GREGORIAN
METHOD:PUBLISH
BEGIN:VEVENT
UID:0spfm69becpgu621vjtfubqdgh@google.com
CATEGORIES:MV Fischbach
CREATED:20240111T223004
SUMMARY:Probewochenende
DESCRIPTION:
DTSTAMP:20260421T034201
DTSTART:20240302T090000
DTEND:20240302T130000
SEQUENCE:2
TRANSP:OPAQUE
END:VEVENT
END:VCALENDAR