BEGIN:VCALENDAR
VERSION:2.0
PRODID:-//jEvents 2.0 for Joomla//EN
CALSCALE:GREGORIAN
METHOD:PUBLISH
BEGIN:VEVENT
UID:14ona1hv506d6s5dmjd40sm2oo@google.com
CATEGORIES:MV Fischbach
CREATED:20240111T223004
SUMMARY:Auftritt Frühschoppen MV Reute
DESCRIPTION:
DTSTAMP:20260420T215302
DTSTART:20240630T081500
DTEND:20240630T110000
SEQUENCE:1
TRANSP:OPAQUE
END:VEVENT
END:VCALENDAR