BEGIN:VCALENDAR
VERSION:2.0
PRODID:-//jEvents 2.0 for Joomla//EN
CALSCALE:GREGORIAN
METHOD:PUBLISH
BEGIN:VEVENT
UID:c5gmadhm68om4b9p6li3gb9kccr3eb9oc9i6cb9pc8s62db36gsmaor3c4@google.com
CATEGORIES:MV Fischbach
CREATED:20231221T183004
SUMMARY:Probe Bläserbesetzung für Christbaum
DESCRIPTION:
DTSTAMP:20260421T145933
DTSTART:20231222T200000
DTEND:20231222T213000
SEQUENCE:0
TRANSP:OPAQUE
END:VEVENT
END:VCALENDAR