BEGIN:VCALENDAR
VERSION:2.0
PRODID:-//jEvents 2.0 for Joomla//EN
CALSCALE:GREGORIAN
METHOD:PUBLISH
BEGIN:VEVENT
UID:cks3cchh68p3ebb36gp3cb9k69gj8bb2c8s36b9h71i62p9hckp6acb274@google.com
CATEGORIES:MV Fischbach
CREATED:20231101T123003
SUMMARY:Musikprobe
DESCRIPTION:
DTSTAMP:20260421T131615
DTSTART:20231119T090000
DTEND:20231119T113000
SEQUENCE:0
TRANSP:OPAQUE
END:VEVENT
END:VCALENDAR