BEGIN:VCALENDAR
VERSION:2.0
PRODID:-//jEvents 2.0 for Joomla//EN
CALSCALE:GREGORIAN
METHOD:PUBLISH
BEGIN:VEVENT
UID:51bv1knoii3kbc5avbbst0e5f3@google.com
CATEGORIES:MV Fischbach
CREATED:20231030T223003
SUMMARY:Weihnachtsfeier MV Fischbach
DESCRIPTION:
DTSTAMP:20260421T145128
DTSTART:20231208T200000
DTEND:20231208T230000
SEQUENCE:1
TRANSP:OPAQUE
END:VEVENT
END:VCALENDAR