BEGIN:VCALENDAR
VERSION:2.0
PRODID:-//jEvents 2.0 for Joomla//EN
CALSCALE:GREGORIAN
METHOD:PUBLISH
BEGIN:VEVENT
UID:7pk3ude7peno76k622eolj6qqe@google.com
CATEGORIES:MV Fischbach
CREATED:20231026T203005
SUMMARY:Jahreshauptversammlung Förderverein
LOCATION:Proberaum
DESCRIPTION:
DTSTAMP:20260421T043145
DTSTART:20240301T201500
DTEND:20240301T210000
SEQUENCE:0
TRANSP:OPAQUE
END:VEVENT
END:VCALENDAR