BEGIN:VCALENDAR
VERSION:2.0
PRODID:-//jEvents 2.0 for Joomla//EN
CALSCALE:GREGORIAN
METHOD:PUBLISH
BEGIN:VEVENT
UID:7dahi8vhgf7jh0dfgvc5nug2os@google.com
CATEGORIES:MV Fischbach
CREATED:20231026T203005
SUMMARY:Jahreshauptversammlung
LOCATION:Proberaum
DESCRIPTION:
DTSTAMP:20260421T034053
DTSTART:20240302T200000
DTEND:20240302T213000
SEQUENCE:0
TRANSP:OPAQUE
END:VEVENT
END:VCALENDAR