BEGIN:VCALENDAR
VERSION:2.0
PRODID:-//jEvents 2.0 for Joomla//EN
CALSCALE:GREGORIAN
METHOD:PUBLISH
BEGIN:VEVENT
UID:cphj8c3460s64b9m6cp66b9kcksmcb9pcgpj6bb564q38e1i6thjad9j60@google.com
CATEGORIES:MV Fischbach
CREATED:20230923T193004
SUMMARY:Außerordentliche Jahreshauptversammlung
LOCATION:Proberaum
DESCRIPTION:
DTSTAMP:20260421T133220
DTSTART:20230929T193000
DTEND:20230929T200000
SEQUENCE:0
TRANSP:OPAQUE
END:VEVENT
END:VCALENDAR