BEGIN:VCALENDAR
VERSION:2.0
PRODID:-//jEvents 2.0 for Joomla//EN
CALSCALE:GREGORIAN
METHOD:PUBLISH
BEGIN:VEVENT
UID:ccsj6e1j6phjgb9ic9gm8b9k64s3ibb261gjebb56ss3ip1l6dh6ad9j6g@google.com
CATEGORIES:MV Fischbach
CREATED:20230825T153003
SUMMARY:Gemütliche Einkehr
LOCATION:Kegelbahn
DESCRIPTION:
DTSTAMP:20260421T145133
DTSTART:20230825T200000
DTEND:20230825T220000
SEQUENCE:0
TRANSP:OPAQUE
END:VEVENT
END:VCALENDAR