BEGIN:VCALENDAR
VERSION:2.0
PRODID:-//jEvents 2.0 for Joomla//EN
CALSCALE:GREGORIAN
METHOD:PUBLISH
BEGIN:VEVENT
UID:7u2d12o433m4ae4g19015a5lgb@google.com
CATEGORIES:MV Fischbach
CREATED:20230614T123004
SUMMARY:Gemütliches Beisammensein (Pfingstfestabschluss)
LOCATION:Gemeindehalle Fischbach
DESCRIPTION:
DTSTAMP:20260420T094012
DTSTART:20240520T190000
DTEND:20240520T233000
SEQUENCE:0
TRANSP:OPAQUE
END:VEVENT
END:VCALENDAR