BEGIN:VCALENDAR
VERSION:2.0
PRODID:-//jEvents 2.0 for Joomla//EN
CALSCALE:GREGORIAN
METHOD:PUBLISH
BEGIN:VEVENT
UID:0senrr6lnnit7rcdp2jbhhdc5u@google.com
CATEGORIES:MV Fischbach
CREATED:20230614T123004
SUMMARY:Pfingstfest
DESCRIPTION:
DTSTAMP:20260420T084021
DTSTART:20240518T200000
DTEND:20240520T190000
SEQUENCE:0
TRANSP:OPAQUE
END:VEVENT
END:VCALENDAR