BEGIN:VCALENDAR
VERSION:2.0
PRODID:-//jEvents 2.0 for Joomla//EN
CALSCALE:GREGORIAN
METHOD:PUBLISH
BEGIN:VEVENT
UID:3ghdf0j9jsnckk9nfcknqagmk7@google.com
CATEGORIES:MV Fischbach
CREATED:20230614T123004
SUMMARY:Auftritt Christi Himmelfahrt
DESCRIPTION:
DTSTAMP:20260420T102256
DTSTART:20240509T090000
DTEND:20240509T103000
SEQUENCE:0
TRANSP:OPAQUE
END:VEVENT
END:VCALENDAR