BEGIN:VCALENDAR
VERSION:2.0
PRODID:-//jEvents 2.0 for Joomla//EN
CALSCALE:GREGORIAN
METHOD:PUBLISH
BEGIN:VEVENT
UID:chi68db26gqjcbb2ccpjib9k6cpj6bb1c8r3gb9g6hh6ae9p6soj0p326k@google.com
CATEGORIES:MV Fischbach
CREATED:20230525T203003
SUMMARY:Besuch Fröhlicher Feierabend in Ummendorf
LOCATION:Ummendorf
DESCRIPTION:
DTSTAMP:20260421T145932
DTSTART:20230626T173000
DTEND:20230626T203000
SEQUENCE:1
TRANSP:OPAQUE
END:VEVENT
END:VCALENDAR