BEGIN:VCALENDAR
VERSION:2.0
PRODID:-//jEvents 2.0 for Joomla//EN
CALSCALE:GREGORIAN
METHOD:PUBLISH
BEGIN:VEVENT
UID:570k4qg3ijoigdjag580fimau5@google.com
CATEGORIES:MV Fischbach
CREATED:20230501T213002
SUMMARY:Auftritt ev. Open-Air-Gottensdienst 
LOCATION:Ummendorf
DESCRIPTION:
DTSTAMP:20260421T150003
DTSTART:20230709T103000
DTEND:20230709T113000
SEQUENCE:0
TRANSP:OPAQUE
END:VEVENT
END:VCALENDAR