BEGIN:VCALENDAR
VERSION:2.0
PRODID:-//jEvents 2.0 for Joomla//EN
CALSCALE:GREGORIAN
METHOD:PUBLISH
BEGIN:VEVENT
UID:6orm8cb3ccpmab9n6dj36b9kcdgjgbb1c8o62bb4chgmap9m6go6ap1l68@google.com
CATEGORIES:MV Fischbach
CREATED:20221116T183004
SUMMARY:Auftritt Schwabenmahl
DESCRIPTION:
DTSTAMP:20260421T145035
DTSTART:20230514T110000
DTEND:20230514T133000
SEQUENCE:0
TRANSP:OPAQUE
END:VEVENT
END:VCALENDAR