BEGIN:VCALENDAR
VERSION:2.0
PRODID:-//jEvents 2.0 for Joomla//EN
CALSCALE:GREGORIAN
METHOD:PUBLISH
BEGIN:VEVENT
UID:70o6apj264rjabb6cgsj0b9k71h34bb160om4b9h6grm2ohicoqm4c9l74@google.com
CATEGORIES:MV Fischbach
CREATED:20221112T163003
SUMMARY:Kreismusikfest Ummendorf
DESCRIPTION:
DTSTAMP:20260420T233311
DTSTART:20240606T020000
DTEND:20240610T015959
SEQUENCE:0
TRANSP:OPAQUE
END:VEVENT
END:VCALENDAR