BEGIN:VCALENDAR
VERSION:2.0
PRODID:-//jEvents 2.0 for Joomla//EN
CALSCALE:GREGORIAN
METHOD:PUBLISH
BEGIN:VEVENT
UID:7uqq7gf95jsmn4m9acruhv7ofo@google.com
CATEGORIES:MV Fischbach
CREATED:20221104T153004
SUMMARY:Kreismusikfest Mietingen
DESCRIPTION:
DTSTAMP:20260421T144949
DTSTART:20230430T110000
DTEND:20230430T170000
SEQUENCE:3
TRANSP:OPAQUE
END:VEVENT
END:VCALENDAR