BEGIN:VCALENDAR
VERSION:2.0
PRODID:-//jEvents 2.0 for Joomla//EN
CALSCALE:GREGORIAN
METHOD:PUBLISH
BEGIN:VEVENT
UID:771nh12rp65l48nq1iks04nmno@google.com
CATEGORIES:MV Fischbach
CREATED:20221104T143004
SUMMARY:Auftritt Christi Himmelfahrt
DESCRIPTION:
DTSTAMP:20260421T132843
DTSTART:20230518T090000
DTEND:20230518T103000
SEQUENCE:0
TRANSP:OPAQUE
END:VEVENT
END:VCALENDAR