BEGIN:VCALENDAR
VERSION:2.0
PRODID:-//jEvents 2.0 for Joomla//EN
CALSCALE:GREGORIAN
METHOD:PUBLISH
BEGIN:VEVENT
UID:79j0sdel6tuvrq2ouuphh07on1@google.com
CATEGORIES:MV Fischbach
CREATED:20221104T143004
SUMMARY:Auftritt Fronleichnam
DESCRIPTION:
DTSTAMP:20260421T132836
DTSTART:20230608T081500
DTEND:20230608T103000
SEQUENCE:1
TRANSP:OPAQUE
END:VEVENT
END:VCALENDAR