BEGIN:VCALENDAR
VERSION:2.0
PRODID:-//jEvents 2.0 for Joomla//EN
CALSCALE:GREGORIAN
METHOD:PUBLISH
BEGIN:VEVENT
UID:09pe94gvmo9pqjhtrp91sujo2g@google.com
CATEGORIES:MV Fischbach
CREATED:20221104T143004
SUMMARY:Gmoidsfasnet Umzug
LOCATION:Fischbach
DESCRIPTION:
DTSTAMP:20260421T145133
DTSTART:20230204T140000
DTEND:20230204T160000
SEQUENCE:0
TRANSP:OPAQUE
END:VEVENT
END:VCALENDAR