BEGIN:VCALENDAR
VERSION:2.0
PRODID:-//jEvents 2.0 for Joomla//EN
CALSCALE:GREGORIAN
METHOD:PUBLISH
BEGIN:VEVENT
UID:5scec8ghcmj45c1jk9fjmvf717@google.com
CATEGORIES:MV Fischbach
CREATED:20221104T133003
SUMMARY:Aufbau Pfingstfest
DESCRIPTION:
DTSTAMP:20260421T190553
DTSTART:20230526T113000
DTEND:20230526T153000
SEQUENCE:0
TRANSP:OPAQUE
END:VEVENT
END:VCALENDAR