BEGIN:VCALENDAR
VERSION:2.0
PRODID:-//jEvents 2.0 for Joomla//EN
CALSCALE:GREGORIAN
METHOD:PUBLISH
BEGIN:VEVENT
UID:1dvntro29k48nsus1id0itgn31@google.com
CATEGORIES:MV Fischbach
CLASS:PUBLIC
CREATED:20221104T133003
SUMMARY:Pfingstfestaufbau
LOCATION:Gemeindehalle Fischbach
DESCRIPTION:Die Damen dürfen sich in zwei Schichten (morgens &amp; nachmittags) aufteil
 en
DTSTAMP:20260421T145025
DTSTART:20230527T090000
DTEND:20230527T170000
SEQUENCE:0
TRANSP:OPAQUE
END:VEVENT
END:VCALENDAR