BEGIN:VCALENDAR
VERSION:2.0
PRODID:-//jEvents 2.0 for Joomla//EN
CALSCALE:GREGORIAN
METHOD:PUBLISH
BEGIN:VEVENT
UID:0o0ec764vva6jd9mdoqjvjjv8r@google.com
CATEGORIES:MV Fischbach
CREATED:20221104T133003
SUMMARY:Gemütliches Beisammensein (Pfingstfestabschluss)
LOCATION:Gemeindehalle Fischbach
DESCRIPTION:
DTSTAMP:20260421T132750
DTSTART:20230529T190000
DTEND:20230529T233000
SEQUENCE:0
TRANSP:OPAQUE
END:VEVENT
END:VCALENDAR