BEGIN:VCALENDAR
VERSION:2.0
PRODID:-//jEvents 2.0 for Joomla//EN
CALSCALE:GREGORIAN
METHOD:PUBLISH
BEGIN:VEVENT
UID:c4oj6chk71h62b9j6gr66b9kc8r38bb175im6b9k6cpj4db670sj4d3568@google.com
CATEGORIES:MV Fischbach
CREATED:20220724T163004
SUMMARY:Pfingstfest
DESCRIPTION:
DTSTAMP:20260421T190511
DTSTART:20230527T140000
DTEND:20230529T160000
SEQUENCE:0
TRANSP:OPAQUE
END:VEVENT
END:VCALENDAR